BEGIN:VCALENDAR
VERSION:2.0
PRODID:-//Eventin//Event Calendar//EN
CALSCALE:GREGORIAN
METHOD:PUBLISH
BEGIN:VEVENT
UID:8303b6410a174f58195253c81d12a0ba@everydayempowered.com.au
SUMMARY:HerbFest Masterclasses 2026
DESCRIPTION:the Masterclasses are our chance to dive deeper with interstate
  Speakers. This year\, Taj Scicluna from Botanical Education is teaching bo
 th workshops!! She's such a fun\, dynamic educator\, we're in for such a tr
 eat!\nBook in for just 1 of the Masterclasses\, or come for the whole day!\
 nMorning workshop: 9-12. \nA Herbal Perspective: ADHD & Herbs for Cognitio
 n \nWith the increasing prevalence and proper diagnosis of neurodivergence
 \, the need for herbal and lifestyle support is at an all-time high. \nHer
 e we will explore herbs for focus and cognition\, as well as gut restoratio
 n and nervous system support\, which may benefit more than the neurodiverge
 nt. \nTaj Scicluna has lived experience with ADHD. Although she is not adv
 erse to pharmaceutical intervention and it's benefits\, she manages her sym
 ptoms largely with herbs and lifestyle choices. \nHere she will share tips
  from her own personal journey\, as well as evidence-based research on herb
 s that can support\, with practical examples of how and when to work with t
 hem. \n \nAfternoon workshop: 1 - 4pmThe Herbal Apprentice Essentials \n
 If herbal books have started to feel overwhelming- pages of information tha
 t never quite land- you’re not alone.\nHerbalism isn’t meant to be memo
 rised. It’s meant to be experienced\, sensed\, and understood in relation
 ship.\nIn this workshop\, we move beyond rote learning into a deeper way of
  knowing plants: through the senses\, through patterns\, and through practi
 cal tools that help you understand when and how to use herbs\, not just wha
 t they do.\nYou’ll leave with frameworks and learning methods you can ret
 urn to again and again\, long after the workshop has ended.\nJust note: whe
 n you buy a ticket\, your confirmation email will have the times for the wh
 ole day. If you're just booking 1 Masterclass\, make sure you write down th
 e correct time. 
LOCATION:Valdora Hall
DTSTAMP:20260422T121947Z
DTSTART:20260614T230000Z
DTEND:20260615T060000Z
END:VEVENT
END:VCALENDAR
